BEGIN:VCALENDAR
VERSION:2.0
PRODID:-//go-shred - ECPv6.15.20//NONSGML v1.0//EN
CALSCALE:GREGORIAN
METHOD:PUBLISH
X-ORIGINAL-URL:https://go-shred.com
X-WR-CALDESC:Veranstaltungen für go-shred
REFRESH-INTERVAL;VALUE=DURATION:PT1H
X-Robots-Tag:noindex
X-PUBLISHED-TTL:PT1H
BEGIN:VTIMEZONE
TZID:Europe/Berlin
BEGIN:DAYLIGHT
TZOFFSETFROM:+0100
TZOFFSETTO:+0200
TZNAME:CEST
DTSTART:20230326T010000
END:DAYLIGHT
BEGIN:STANDARD
TZOFFSETFROM:+0200
TZOFFSETTO:+0100
TZNAME:CET
DTSTART:20231029T010000
END:STANDARD
BEGIN:DAYLIGHT
TZOFFSETFROM:+0100
TZOFFSETTO:+0200
TZNAME:CEST
DTSTART:20240331T010000
END:DAYLIGHT
BEGIN:STANDARD
TZOFFSETFROM:+0200
TZOFFSETTO:+0100
TZNAME:CET
DTSTART:20241027T010000
END:STANDARD
BEGIN:DAYLIGHT
TZOFFSETFROM:+0100
TZOFFSETTO:+0200
TZNAME:CEST
DTSTART:20250330T010000
END:DAYLIGHT
BEGIN:STANDARD
TZOFFSETFROM:+0200
TZOFFSETTO:+0100
TZNAME:CET
DTSTART:20251026T010000
END:STANDARD
END:VTIMEZONE
BEGIN:VEVENT
DTSTART;TZID=Europe/Berlin:20240622T120000
DTEND;TZID=Europe/Berlin:20240622T120000
DTSTAMP:20260422T200203
CREATED:20240516T143204Z
LAST-MODIFIED:20240516T143204Z
UID:4041-1719057600-1719057600@go-shred.com
SUMMARY:Volcom Garden Experience | Pier15 - Breda\, The Netherlands | June 22
DESCRIPTION:Volcom Entertainment is delighted to announce the return of the Volcom Garden Experience to PIER15 in Breda\, The Netherlands\, for another epic edition on the 22nd of June 2024! \nThe one-day mini-festival concept is a physical embodiment of Volcom’s „True To This” mantra by providing a creative hub for the local scene with an emphasis on both regional and global creators\, makers\, musicians\, artists and anyone who needs an outlet to express their passion.  \nThe eclectic line-up will consist of live bands and DJs\, skateboarding challenges with prizes on offer and a creative market which will gather an array of artists revolving around the Volcom universe. \nPIER15 is much more than just a skatepark\, it’s also a true space of expression and entertainment for the local community. And after two very successful editions of the event on its docks\, it was a no brainer to come back!  \nInfo\, tickets & music line-up: https://vol.cm/garden_exp24 \nEvery ticket purchased enlists you into a raffle to win a Volcom prize pack. \nTimetable and creative market exhibitors to be announced. \nJoin the Facebook event: https://fb.me/e/4q8mlRjDA \nTags: \n#VolcomGardenExperience\n@volcom\n@volcomstudio\n@pier15skatepark
URL:https://go-shred.com/event/volcom-garden-experience-pier15-breda-the-netherlands-june-22/
CATEGORIES:Skate
ATTACH;FMTTYPE=image/jpeg:https://go-shred.com/wp-content/uploads/2024/05/1200x1500_WEBINVITE.jpg
END:VEVENT
END:VCALENDAR