BEGIN:VCALENDAR
VERSION:2.0
PRODID:-//go-shred - ECPv6.15.20//NONSGML v1.0//EN
CALSCALE:GREGORIAN
METHOD:PUBLISH
X-WR-CALNAME:go-shred
X-ORIGINAL-URL:https://go-shred.com
X-WR-CALDESC:Veranstaltungen für go-shred
REFRESH-INTERVAL;VALUE=DURATION:PT1H
X-Robots-Tag:noindex
X-PUBLISHED-TTL:PT1H
BEGIN:VTIMEZONE
TZID:Europe/Berlin
BEGIN:DAYLIGHT
TZOFFSETFROM:+0100
TZOFFSETTO:+0200
TZNAME:CEST
DTSTART:20250330T010000
END:DAYLIGHT
BEGIN:STANDARD
TZOFFSETFROM:+0200
TZOFFSETTO:+0100
TZNAME:CET
DTSTART:20251026T010000
END:STANDARD
BEGIN:DAYLIGHT
TZOFFSETFROM:+0100
TZOFFSETTO:+0200
TZNAME:CEST
DTSTART:20260329T010000
END:DAYLIGHT
BEGIN:STANDARD
TZOFFSETFROM:+0200
TZOFFSETTO:+0100
TZNAME:CET
DTSTART:20261025T010000
END:STANDARD
BEGIN:DAYLIGHT
TZOFFSETFROM:+0100
TZOFFSETTO:+0200
TZNAME:CEST
DTSTART:20270328T010000
END:DAYLIGHT
BEGIN:STANDARD
TZOFFSETFROM:+0200
TZOFFSETTO:+0100
TZNAME:CET
DTSTART:20271031T010000
END:STANDARD
END:VTIMEZONE
BEGIN:VEVENT
DTSTART;TZID=Europe/Berlin:20260516T110000
DTEND;TZID=Europe/Berlin:20260516T180000
DTSTAMP:20260421T121218
CREATED:20260420T154604Z
LAST-MODIFIED:20260420T154604Z
UID:5011-1778929200-1778954400@go-shred.com
SUMMARY:Skateboard Contest I STEP IN THE ARENA I Skatehalle Innsbruck
DESCRIPTION:It’s this time of the year !!! Together with Ride In Pleasure Skateboard we bring back the STEP IN THE ARENA skateboard contest to the Skatehalle Innsbruck. \nThe format of the STEP IN THE ARENA contest is based on a jam session in combination with a best trick judging. The contest area will be divided in 3 sections\, where you have to do your best trick in a certain amount of time. Means\, 3 areas and in every area the rider has to do his best trick. Means\, in the end the rider has 3 best tricks and all 3 best tricks together will make the result.\nThe fact\, that only the best trick counts is the key to give the best. \nBIG THANK YOU to all our supporters\, City of Innsbruck\, ASKÖ\, Lakai and Haze wheels.\nAND this year again\, we have 1000€ prizemony for those who’re rocking most in the ARENA … \nBeside the prize money\, we got goodies from Volcoom\, Stance\, Lakai and Haze wheels.  \nSee you there and let’s skate!
URL:https://go-shred.com/event/skateboard-contest-i-step-in-the-arena-i-skatehalle-innsbruck/
CATEGORIES:Skate
ATTACH;FMTTYPE=image/jpeg:https://go-shred.com/wp-content/uploads/2026/04/2026-Step_In_Area_Poster_Master_RGB_2025.jpg
END:VEVENT
END:VCALENDAR