BEGIN:VCALENDAR
VERSION:2.0
PRODID:-//go-shred - ECPv6.15.20//NONSGML v1.0//EN
CALSCALE:GREGORIAN
METHOD:PUBLISH
X-ORIGINAL-URL:https://go-shred.com
X-WR-CALDESC:Veranstaltungen für go-shred
REFRESH-INTERVAL;VALUE=DURATION:PT1H
X-Robots-Tag:noindex
X-PUBLISHED-TTL:PT1H
BEGIN:VTIMEZONE
TZID:Europe/Berlin
BEGIN:DAYLIGHT
TZOFFSETFROM:+0100
TZOFFSETTO:+0200
TZNAME:CEST
DTSTART:20210328T010000
END:DAYLIGHT
BEGIN:STANDARD
TZOFFSETFROM:+0200
TZOFFSETTO:+0100
TZNAME:CET
DTSTART:20211031T010000
END:STANDARD
BEGIN:DAYLIGHT
TZOFFSETFROM:+0100
TZOFFSETTO:+0200
TZNAME:CEST
DTSTART:20220327T010000
END:DAYLIGHT
BEGIN:STANDARD
TZOFFSETFROM:+0200
TZOFFSETTO:+0100
TZNAME:CET
DTSTART:20221030T010000
END:STANDARD
BEGIN:DAYLIGHT
TZOFFSETFROM:+0100
TZOFFSETTO:+0200
TZNAME:CEST
DTSTART:20230326T010000
END:DAYLIGHT
BEGIN:STANDARD
TZOFFSETFROM:+0200
TZOFFSETTO:+0100
TZNAME:CET
DTSTART:20231029T010000
END:STANDARD
END:VTIMEZONE
BEGIN:VEVENT
DTSTART;TZID=Europe/Berlin:20220730T130000
DTEND;TZID=Europe/Berlin:20220730T200000
DTSTAMP:20260422T141230
CREATED:20220715T124807Z
LAST-MODIFIED:20220715T130842Z
UID:2846-1659186000-1659211200@go-shred.com
SUMMARY:SUMMERJAM I Skatehalle Innsbruck
DESCRIPTION:Together with the two clubs in Innsbruck RIDE IN PLEASURE skateboarding & BMX we’re pleased to run another SUMMERJAM at Skatehalle Innsbruck. We want to invite you to celebrate skateboarding\, BMX and LIFE in general with us. We’ll provide some food\, drinks and some funny games to improve your skills.  \nBecause it’s Summer we would like to see your best summer OUTFIT. Among all those who show up in their beach-\, Hawai- or summer outfit we’ll raffle a few special surprises. \nMore specials:  \n– Video screening of „The Cradle“ 20 years of skatepark at Brixlegg\n– video production with Peter Mader\n– more to come … \nWe want to say thank you to all our supporters: blue-tomato\, Volcom and all the others who help us to push the SHRED. \nNote the dat and tell your friends !!! \nMore INFOS here: facebook.com/events/357539836563977
URL:https://go-shred.com/event/summerjam-i-skatehalle-innsbruck/
CATEGORIES:Skate
ATTACH;FMTTYPE=image/jpeg:https://go-shred.com/wp-content/uploads/2022/07/web-2-fb-event@4x-scaled.jpg
END:VEVENT
END:VCALENDAR