BEGIN:VCALENDAR
VERSION:2.0
PRODID:-//go-shred - ECPv6.15.20//NONSGML v1.0//EN
CALSCALE:GREGORIAN
METHOD:PUBLISH
X-WR-CALNAME:go-shred
X-ORIGINAL-URL:https://go-shred.com
X-WR-CALDESC:Veranstaltungen für go-shred
REFRESH-INTERVAL;VALUE=DURATION:PT1H
X-Robots-Tag:noindex
X-PUBLISHED-TTL:PT1H
BEGIN:VTIMEZONE
TZID:Europe/Berlin
BEGIN:DAYLIGHT
TZOFFSETFROM:+0100
TZOFFSETTO:+0200
TZNAME:CEST
DTSTART:20230326T010000
END:DAYLIGHT
BEGIN:STANDARD
TZOFFSETFROM:+0200
TZOFFSETTO:+0100
TZNAME:CET
DTSTART:20231029T010000
END:STANDARD
BEGIN:DAYLIGHT
TZOFFSETFROM:+0100
TZOFFSETTO:+0200
TZNAME:CEST
DTSTART:20240331T010000
END:DAYLIGHT
BEGIN:STANDARD
TZOFFSETFROM:+0200
TZOFFSETTO:+0100
TZNAME:CET
DTSTART:20241027T010000
END:STANDARD
BEGIN:DAYLIGHT
TZOFFSETFROM:+0100
TZOFFSETTO:+0200
TZNAME:CEST
DTSTART:20250330T010000
END:DAYLIGHT
BEGIN:STANDARD
TZOFFSETFROM:+0200
TZOFFSETTO:+0100
TZNAME:CET
DTSTART:20251026T010000
END:STANDARD
END:VTIMEZONE
BEGIN:VEVENT
DTSTART;TZID=Europe/Berlin:20241102T100000
DTEND;TZID=Europe/Berlin:20241103T150000
DTSTAMP:20260425T153535
CREATED:20240701T142020Z
LAST-MODIFIED:20240727T104807Z
UID:4072-1730541600-1730646000@go-shred.com
SUMMARY:Salomon Snowboards FREE TEST I Kitzsteinhorn glacier 2024
DESCRIPTION:Who’s the man? It’s Hermann from Base Camp BoardShop in Kaprun.  \nHermann runs the Shop since over 30 years and he knows exactly what you need! Test before you buy\, cause testing  is and will always be the key.  \nRendez-vous at Kitzsteinhorn glacier at the first weekend of November.  \nWant to register for the DEMO? Everything goes quicker\, when you register before … \nRegister here …
URL:https://go-shred.com/event/salomon-snowboards-free-test-i-kitzsteinhorn-glacier-2024/
CATEGORIES:Snow
ATTACH;FMTTYPE=image/jpeg:https://go-shred.com/wp-content/uploads/2024/07/Tester-scaled.jpg
END:VEVENT
BEGIN:VEVENT
DTSTART;TZID=Europe/Berlin:20241109T100000
DTEND;TZID=Europe/Berlin:20241110T150000
DTSTAMP:20260425T153535
CREATED:20240701T142522Z
LAST-MODIFIED:20240727T110343Z
UID:4076-1731146400-1731250800@go-shred.com
SUMMARY:Salomon Snowboards FREE TEST I Stubaital glacier 2024
DESCRIPTION:Probably the biggest public snowboard test on the german speaking market will take place at Stubaital glacier.\nLet’s mark the date in your agenda\, cause no need to buy a pig in a poke. \nCome by and test the new Salomon Snowboard range for FREE … \nIf you want to make everything easier\, register at the link below … \nRegister here …
URL:https://go-shred.com/event/salomon-snowboards-free-test-i-stubaital-glacier-2024/
CATEGORIES:Snow
ATTACH;FMTTYPE=image/jpeg:https://go-shred.com/wp-content/uploads/2024/07/booth--scaled.jpg
END:VEVENT
END:VCALENDAR